BEGIN:VCALENDAR
VERSION:2.0
PRODID:-//ddaysoftware.com//NONSGML DDay.iCal 1.0//EN
BEGIN:VEVENT
DESCRIPTION:Thursday\, April 4\, 2024   The Inn at Fox Hollow 7755 Jericho 
 Turnpike Woodbury  7:30 AM - 9:30 AM  Breakfast served 7:30 - 8:30 AM MACC
  Industry Updates at 8:00 AM followed by AEC Analytics presentation.   Che
 ck out the meeting topics down below: Members are encouraged to bring key 
 employees to this event! Come ready with questions and comments for a grea
 t morning of discussion and learning!    Analytical Software presented by 
 AEC Analytics                                                             
                  Do you want fewer risks?             Want more margin?   
           Fewer cash headaches?             A higher business valuation?  
                                                                           
                                                                  Join us a
 t our April Membership Meeting when AEC Analytics show us how to use the u
 ntapped financial and operational data in your business to achieve the abo
 ve and more! Improve cash flow\, increase profitability\, and reduce risk 
 to achieve excellence for long term growth\, success\, and business valuat
 ion.             The founders of AEC are former contractors who have spent
  their entire career working in the NYC and surrounding region. The AEC te
 am will introduce you to how their analytics system works and their approa
 ch to helping you go beyond success to achieve excellence.                
                                                    MEMBERS ATTEND FREE Gue
 st attendees $45   https://www.maccny.org/AMSEvents/ViewEvent.aspx?id=e177
 9181-0a95-42fd-9b64-73053f4cbe00
DTEND:20240404T093000
DTSTAMP:20260419T141436
DTSTART:20240404T073000
SEQUENCE:0
SUMMARY:April Membership Meeting
UID:e1779181-0a95-42fd-9b64-73053f4cbe00
URL:https://www.maccny.org/AMSEvents/ViewEvent.aspx?id=e1779181-0a95-42fd-9
 b64-73053f4cbe00
END:VEVENT
END:VCALENDAR
