BEGIN:VCALENDAR
VERSION:2.0
PRODID:-//ddaysoftware.com//NONSGML DDay.iCal 1.0//EN
BEGIN:VEVENT
DESCRIPTION:Thursday\, December 3\, 2026  Location TBD 6:30PM - 10:30PM  Fu
 rther Details to Follow...  https://www.maccny.org/AMSEvents/ViewEvent.asp
 x?id=d6a5512f-45f5-4d93-82b2-724aff9bdfb7
DTEND:20261203T223000
DTSTAMP:20260424T090941
DTSTART:20261203T183000
SEQUENCE:0
SUMMARY:Annual Holiday Party 
UID:d6a5512f-45f5-4d93-82b2-724aff9bdfb7
URL:https://www.maccny.org/AMSEvents/ViewEvent.aspx?id=d6a5512f-45f5-4d93-8
 2b2-724aff9bdfb7
END:VEVENT
END:VCALENDAR
