BEGIN:VCALENDAR
VERSION:2.0
PRODID:-//ddaysoftware.com//NONSGML DDay.iCal 1.0//EN
BEGIN:VEVENT
DESCRIPTION:Taught by Stan Komorowski\, a professional with over 15 years o
 f industry experience. Stan served as the superintendent of Striano Electr
 ic Co.\, Inc.\, and is excited to share his expertise with your employees.
    https://www.maccny.org/AMSEvents/ViewEvent.aspx?id=c47b9be7-ea43-47b4-a
 d5d-11fdbd6bd776
DTEND:20220308T210000
DTSTAMP:20260421T125951
DTSTART:20220308T180000
SEQUENCE:0
SUMMARY:Foremanship Training 6 Hour Virtual Course (2 Sessions)
UID:c47b9be7-ea43-47b4-ad5d-11fdbd6bd776
URL:https://www.maccny.org/AMSEvents/ViewEvent.aspx?id=c47b9be7-ea43-47b4-a
 d5d-11fdbd6bd776
END:VEVENT
END:VCALENDAR
