BEGIN:VCALENDAR
VERSION:2.0
PRODID:-//ddaysoftware.com//NONSGML DDay.iCal 1.0//EN
BEGIN:VEVENT
DESCRIPTION:                      Back-Office Strategies       Live Online 
 Workshop            Ready to elevate your business to new heights? Feeling
  bogged down by day-to-day operations? It's time to seize control of your 
 back-office tasks and equip yourself with the skill to unlock the true pot
 ential of your construction business.   Free for MACC Members* I $100 for 
 Non-Members                    Date &amp\; Times                  Session 
 1       Wed. April 3rd\, 11:00 AM - 1:00 PM                  Session 2    
     Wed. April 10th\, 11:00 AM - 1:00 PM             https://www.maccny.or
 g/AMSEvents/ViewEvent.aspx?id=b48aa1ba-4dfc-4415-86df-f37adb066d65
DTEND:20240403T130000
DTSTAMP:20260419T141955
DTSTART:20240403T110000
SEQUENCE:0
SUMMARY:Back Office Strategies - Live Online Workshop
UID:b48aa1ba-4dfc-4415-86df-f37adb066d65
URL:https://www.maccny.org/AMSEvents/ViewEvent.aspx?id=b48aa1ba-4dfc-4415-8
 6df-f37adb066d65
END:VEVENT
END:VCALENDAR
