BEGIN:VCALENDAR
VERSION:2.0
PRODID:-//ddaysoftware.com//NONSGML DDay.iCal 1.0//EN
BEGIN:VEVENT
DESCRIPTION: https://www.maccny.org/AMSEvents/ViewEvent.aspx?id=7399af93-a6
 2b-465b-8422-3d00b9b133ec
DTEND:20260917T200000
DTSTAMP:20260424T085520
DTSTART:20260917T173000
SEQUENCE:0
SUMMARY:September Membership Meeting
UID:7399af93-a62b-465b-8422-3d00b9b133ec
URL:https://www.maccny.org/AMSEvents/ViewEvent.aspx?id=7399af93-a62b-465b-8
 422-3d00b9b133ec
END:VEVENT
END:VCALENDAR
