BEGIN:VCALENDAR
VERSION:2.0
PRODID:-//ddaysoftware.com//NONSGML DDay.iCal 1.0//EN
BEGIN:VEVENT
DESCRIPTION:                              SOLD OUT!       See The NY Island
 ers With MACC!       Sponsored by USI Insurance                           
 Tuesday\, March 19\, 2024  UBS ARENA 2400 Hempstead Turnpike\, Elmont\, NY
  11003 Pregame with Unlimited Food &amp\; Drinks At Belmont Hall 6:00-7:00
 pm Belmont Hall Is Located Next To Ticketmaster Concierge                 
               New York Islanders V. Carolina Hurricanes @ 7:30 PM       $1
 25 Per Ticket For Members       $100 Per Ticket For Children       $150 Pe
 r Ticket For Non-Members       Ticket Price Includes:       -Guaranteed Se
 ating With MACC Members In Section 101       CHILD TICKETS CAN BE PURCHASE
 D BY MEMBERS ONLY.       PLEASE PURCHASE CHILD TICKETS SEPERATELY FROM ADU
 LT TO ENSURE DISCOUNTED PRICING                 https://www.maccny.org/AMS
 Events/ViewEvent.aspx?id=68a3d697-2bf6-4209-9437-9fa292b8e8ea
DTEND:20240319T000000
DTSTAMP:20260419T142130
DTSTART:20240319T180000
SEQUENCE:0
SUMMARY:2024 Islanders Game
UID:68a3d697-2bf6-4209-9437-9fa292b8e8ea
URL:https://www.maccny.org/AMSEvents/ViewEvent.aspx?id=68a3d697-2bf6-4209-9
 437-9fa292b8e8ea
END:VEVENT
END:VCALENDAR
