BEGIN:VCALENDAR
VERSION:2.0
PRODID:-//ddaysoftware.com//NONSGML DDay.iCal 1.0//EN
BEGIN:VEVENT
DESCRIPTION:Thursday\, November 5\, 2026  The Halston 400 Broadhollow Rd\, 
 Melville 5:30 PM - 8:00PM   Further Details to Follow... https://www.maccn
 y.org/AMSEvents/ViewEvent.aspx?id=2422843b-14b4-4bc5-b44b-1d6deb28728a
DTEND:20261105T200000
DTSTAMP:20260424T091033
DTSTART:20261105T173000
SEQUENCE:0
SUMMARY:November Membership Meeting
UID:2422843b-14b4-4bc5-b44b-1d6deb28728a
URL:https://www.maccny.org/AMSEvents/ViewEvent.aspx?id=2422843b-14b4-4bc5-b
 44b-1d6deb28728a
END:VEVENT
END:VCALENDAR
